BEGIN:VCALENDAR
VERSION:2.0
PRODID:-//88. Grundschule - ECPv6.15.20//NONSGML v1.0//EN
CALSCALE:GREGORIAN
METHOD:PUBLISH
X-WR-CALNAME:88. Grundschule
X-ORIGINAL-URL:https://88grund.schule
X-WR-CALDESC:Veranstaltungen für 88. Grundschule
REFRESH-INTERVAL;VALUE=DURATION:PT1H
X-Robots-Tag:noindex
X-PUBLISHED-TTL:PT1H
BEGIN:VTIMEZONE
TZID:Europe/Berlin
BEGIN:DAYLIGHT
TZOFFSETFROM:+0100
TZOFFSETTO:+0200
TZNAME:CEST
DTSTART:20250330T010000
END:DAYLIGHT
BEGIN:STANDARD
TZOFFSETFROM:+0200
TZOFFSETTO:+0100
TZNAME:CET
DTSTART:20251026T010000
END:STANDARD
BEGIN:DAYLIGHT
TZOFFSETFROM:+0100
TZOFFSETTO:+0200
TZNAME:CEST
DTSTART:20260329T010000
END:DAYLIGHT
BEGIN:STANDARD
TZOFFSETFROM:+0200
TZOFFSETTO:+0100
TZNAME:CET
DTSTART:20261025T010000
END:STANDARD
BEGIN:DAYLIGHT
TZOFFSETFROM:+0100
TZOFFSETTO:+0200
TZNAME:CEST
DTSTART:20270328T010000
END:DAYLIGHT
BEGIN:STANDARD
TZOFFSETFROM:+0200
TZOFFSETTO:+0100
TZNAME:CET
DTSTART:20271031T010000
END:STANDARD
END:VTIMEZONE
BEGIN:VEVENT
DTSTART;VALUE=DATE:20260420
DTEND;VALUE=DATE:20260421
DTSTAMP:20260420T154626
CREATED:20250829T081720Z
LAST-MODIFIED:20250829T081720Z
UID:1277-1776643200-1776729599@88grund.schule
SUMMARY:Klasse 2 - 4: Schülerkonzert
DESCRIPTION:
URL:https://88grund.schule/termine/klasse-2-4-schuelerkonzert/
LOCATION:Semperoper
CATEGORIES:Schulintern
END:VEVENT
BEGIN:VEVENT
DTSTART;VALUE=DATE:20260420
DTEND;VALUE=DATE:20260421
DTSTAMP:20260420T154626
CREATED:20260105T073256Z
LAST-MODIFIED:20260105T073256Z
UID:1381-1776643200-1776729599@88grund.schule
SUMMARY:Schließtag Hort
DESCRIPTION:
URL:https://88grund.schule/termine/schliesstag-hort-3/
END:VEVENT
BEGIN:VEVENT
DTSTART;VALUE=DATE:20260429
DTEND;VALUE=DATE:20260501
DTSTAMP:20260420T154626
CREATED:20260401T065432Z
LAST-MODIFIED:20260401T065432Z
UID:1413-1777442400-1777528799@88grund.schule
SUMMARY:Klasse 4: Schnitzeljagd Altstadt
DESCRIPTION:
URL:https://88grund.schule/termine/klasse-4-schnitzeljagd-altstadt-2/
END:VEVENT
BEGIN:VEVENT
DTSTART;TZID=Europe/Berlin:20260430T083000
DTEND;TZID=Europe/Berlin:20260430T100000
DTSTAMP:20260420T154626
CREATED:20250930T070400Z
LAST-MODIFIED:20250930T070541Z
UID:1314-1777537800-1777543200@88grund.schule
SUMMARY:Klasse 1 a: Bibo "Mit Bücherwurm Pauli auf Entdeckungsreise"
DESCRIPTION:
URL:https://88grund.schule/termine/klasse-1-a-bibo-mit-buecherwurm-pauli-auf-entdeckungsreise/
CATEGORIES:Schulintern
END:VEVENT
BEGIN:VEVENT
DTSTART;VALUE=DATE:20260501
DTEND;VALUE=DATE:20260502
DTSTAMP:20260420T154626
CREATED:20250812T071449Z
LAST-MODIFIED:20250814T081950Z
UID:1173-1777593600-1777679999@88grund.schule
SUMMARY:Feiertag - Tag der Arbeit
DESCRIPTION:
URL:https://88grund.schule/termine/feiertag-4/
CATEGORIES:Ferien/Feiertag
END:VEVENT
END:VCALENDAR