BEGIN:VCALENDAR
VERSION:2.0
PRODID:-//88. Grundschule - ECPv6.15.20//NONSGML v1.0//EN
CALSCALE:GREGORIAN
METHOD:PUBLISH
X-WR-CALNAME:88. Grundschule
X-ORIGINAL-URL:https://88grund.schule
X-WR-CALDESC:Veranstaltungen für 88. Grundschule
REFRESH-INTERVAL;VALUE=DURATION:PT1H
X-Robots-Tag:noindex
X-PUBLISHED-TTL:PT1H
BEGIN:VTIMEZONE
TZID:Europe/Berlin
BEGIN:DAYLIGHT
TZOFFSETFROM:+0100
TZOFFSETTO:+0200
TZNAME:CEST
DTSTART:20250330T010000
END:DAYLIGHT
BEGIN:STANDARD
TZOFFSETFROM:+0200
TZOFFSETTO:+0100
TZNAME:CET
DTSTART:20251026T010000
END:STANDARD
BEGIN:DAYLIGHT
TZOFFSETFROM:+0100
TZOFFSETTO:+0200
TZNAME:CEST
DTSTART:20260329T010000
END:DAYLIGHT
BEGIN:STANDARD
TZOFFSETFROM:+0200
TZOFFSETTO:+0100
TZNAME:CET
DTSTART:20261025T010000
END:STANDARD
BEGIN:DAYLIGHT
TZOFFSETFROM:+0100
TZOFFSETTO:+0200
TZNAME:CEST
DTSTART:20270328T010000
END:DAYLIGHT
BEGIN:STANDARD
TZOFFSETFROM:+0200
TZOFFSETTO:+0100
TZNAME:CET
DTSTART:20271031T010000
END:STANDARD
END:VTIMEZONE
BEGIN:VEVENT
DTSTART;TZID=Europe/Berlin:20260601T080000
DTEND;TZID=Europe/Berlin:20260601T110000
DTSTAMP:20260420T202920
CREATED:20250812T071927Z
LAST-MODIFIED:20250814T082028Z
UID:1188-1780300800-1780311600@88grund.schule
SUMMARY:Klasse 4 Radausbildung
DESCRIPTION:
URL:https://88grund.schule/termine/klasse-4-radausbildung/
CATEGORIES:Schulintern
END:VEVENT
BEGIN:VEVENT
DTSTART;TZID=Europe/Berlin:20260603T101500
DTEND;TZID=Europe/Berlin:20260603T120000
DTSTAMP:20260420T202920
CREATED:20250812T072000Z
LAST-MODIFIED:20250814T082102Z
UID:1190-1780481700-1780488000@88grund.schule
SUMMARY:Klasse 4 Radausbildung
DESCRIPTION:
URL:https://88grund.schule/termine/klasse-4-radausbildung-2/
CATEGORIES:Schulintern
END:VEVENT
BEGIN:VEVENT
DTSTART;TZID=Europe/Berlin:20260604T101500
DTEND;TZID=Europe/Berlin:20260604T101500
DTSTAMP:20260420T202920
CREATED:20250812T072031Z
LAST-MODIFIED:20250814T082056Z
UID:1192-1780568100-1780568100@88grund.schule
SUMMARY:Klasse 4 Radausbildung
DESCRIPTION:
URL:https://88grund.schule/termine/klasse-4-radausbildung-3/
CATEGORIES:Schulintern
END:VEVENT
BEGIN:VEVENT
DTSTART;TZID=Europe/Berlin:20260611T180000
DTEND;TZID=Europe/Berlin:20260611T190000
DTSTAMP:20260420T202920
CREATED:20260310T094329Z
LAST-MODIFIED:20260310T094329Z
UID:1401-1781200800-1781204400@88grund.schule
SUMMARY:0. Elternabend
DESCRIPTION:
URL:https://88grund.schule/termine/0-elternabend/
END:VEVENT
BEGIN:VEVENT
DTSTART;VALUE=DATE:20260622
DTEND;VALUE=DATE:20260627
DTSTAMP:20260420T202920
CREATED:20250829T081913Z
LAST-MODIFIED:20250829T081913Z
UID:1280-1782086400-1782518399@88grund.schule
SUMMARY:Projektwoche Pillnitz
DESCRIPTION:
URL:https://88grund.schule/termine/projektwoche-pillnitz/
CATEGORIES:Schulintern
END:VEVENT
BEGIN:VEVENT
DTSTART;VALUE=DATE:20260625
DTEND;VALUE=DATE:20260626
DTSTAMP:20260420T202920
CREATED:20250829T081942Z
LAST-MODIFIED:20260306T080716Z
UID:1282-1782345600-1782431999@88grund.schule
SUMMARY:Sommerfest
DESCRIPTION:
URL:https://88grund.schule/termine/sommerfest/
CATEGORIES:Schulintern
END:VEVENT
BEGIN:VEVENT
DTSTART;VALUE=DATE:20260630
DTEND;VALUE=DATE:20260701
DTSTAMP:20260420T202920
CREATED:20250829T082007Z
LAST-MODIFIED:20250829T082007Z
UID:1284-1782777600-1782863999@88grund.schule
SUMMARY:Sportfest
DESCRIPTION:
URL:https://88grund.schule/termine/sportfest/
CATEGORIES:Schulintern
END:VEVENT
END:VCALENDAR