BEGIN:VCALENDAR
VERSION:2.0
PRODID:-//88. Grundschule - ECPv6.15.20//NONSGML v1.0//EN
CALSCALE:GREGORIAN
METHOD:PUBLISH
X-ORIGINAL-URL:https://88grund.schule
X-WR-CALDESC:Veranstaltungen für 88. Grundschule
REFRESH-INTERVAL;VALUE=DURATION:PT1H
X-Robots-Tag:noindex
X-PUBLISHED-TTL:PT1H
BEGIN:VTIMEZONE
TZID:Europe/Berlin
BEGIN:DAYLIGHT
TZOFFSETFROM:+0100
TZOFFSETTO:+0200
TZNAME:CEST
DTSTART:20250330T010000
END:DAYLIGHT
BEGIN:STANDARD
TZOFFSETFROM:+0200
TZOFFSETTO:+0100
TZNAME:CET
DTSTART:20251026T010000
END:STANDARD
BEGIN:DAYLIGHT
TZOFFSETFROM:+0100
TZOFFSETTO:+0200
TZNAME:CEST
DTSTART:20260329T010000
END:DAYLIGHT
BEGIN:STANDARD
TZOFFSETFROM:+0200
TZOFFSETTO:+0100
TZNAME:CET
DTSTART:20261025T010000
END:STANDARD
BEGIN:DAYLIGHT
TZOFFSETFROM:+0100
TZOFFSETTO:+0200
TZNAME:CEST
DTSTART:20270328T010000
END:DAYLIGHT
BEGIN:STANDARD
TZOFFSETFROM:+0200
TZOFFSETTO:+0100
TZNAME:CET
DTSTART:20271031T010000
END:STANDARD
END:VTIMEZONE
BEGIN:VEVENT
DTSTART;VALUE=DATE:20260501
DTEND;VALUE=DATE:20260502
DTSTAMP:20260420T190147
CREATED:20250812T071449Z
LAST-MODIFIED:20250814T081950Z
UID:1173-1777593600-1777679999@88grund.schule
SUMMARY:Feiertag - Tag der Arbeit
DESCRIPTION:
URL:https://88grund.schule/termine/feiertag-4/
CATEGORIES:Ferien/Feiertag
END:VEVENT
BEGIN:VEVENT
DTSTART;VALUE=DATE:20260507
DTEND;VALUE=DATE:20260508
DTSTAMP:20260420T190147
CREATED:20260105T073211Z
LAST-MODIFIED:20260105T073211Z
UID:1377-1778112000-1778198399@88grund.schule
SUMMARY:Mitgliederversammlung Förderverein
DESCRIPTION:
URL:https://88grund.schule/termine/mitgliederversammlung-foerderverein/
END:VEVENT
BEGIN:VEVENT
DTSTART;TZID=Europe/Berlin:20260508T090000
DTEND;TZID=Europe/Berlin:20260508T100000
DTSTAMP:20260420T190147
CREATED:20251205T072349Z
LAST-MODIFIED:20251205T072349Z
UID:1365-1778230800-1778234400@88grund.schule
SUMMARY:Klasse 4: Fototermin
DESCRIPTION:
URL:https://88grund.schule/termine/klasse-4-fototermin/
END:VEVENT
BEGIN:VEVENT
DTSTART;TZID=Europe/Berlin:20260513T081500
DTEND;TZID=Europe/Berlin:20260513T091500
DTSTAMP:20260420T190147
CREATED:20251121T095915Z
LAST-MODIFIED:20251121T095915Z
UID:1360-1778660100-1778663700@88grund.schule
SUMMARY:Klasse 1 a: Bibliothek
DESCRIPTION:
URL:https://88grund.schule/termine/klasse-1-a-bibliothek/
CATEGORIES:Schulintern
END:VEVENT
BEGIN:VEVENT
DTSTART;VALUE=DATE:20260514
DTEND;VALUE=DATE:20260515
DTSTAMP:20260420T190147
CREATED:20250812T071521Z
LAST-MODIFIED:20250814T082002Z
UID:1175-1778716800-1778803199@88grund.schule
SUMMARY:Feiertag - Himmelfahrt
DESCRIPTION:
URL:https://88grund.schule/termine/himmelfahrt-3/
CATEGORIES:Ferien/Feiertag
END:VEVENT
BEGIN:VEVENT
DTSTART;VALUE=DATE:20260515
DTEND;VALUE=DATE:20260516
DTSTAMP:20260420T190147
CREATED:20250812T071619Z
LAST-MODIFIED:20250814T082008Z
UID:1177-1778803200-1778889599@88grund.schule
SUMMARY:Unterrichtsfreier Tag
DESCRIPTION:
URL:https://88grund.schule/termine/unterrichtsfreier-tag/
CATEGORIES:Ferien/Feiertag
END:VEVENT
BEGIN:VEVENT
DTSTART;VALUE=DATE:20260515
DTEND;VALUE=DATE:20260516
DTSTAMP:20260420T190147
CREATED:20260105T073320Z
LAST-MODIFIED:20260105T073320Z
UID:1383-1778803200-1778889599@88grund.schule
SUMMARY:Schließtag Hort
DESCRIPTION:
URL:https://88grund.schule/termine/schliesstag-hort-4/
END:VEVENT
BEGIN:VEVENT
DTSTART;VALUE=DATE:20260520
DTEND;VALUE=DATE:20260523
DTSTAMP:20260420T190147
CREATED:20250812T071644Z
LAST-MODIFIED:20250814T082153Z
UID:1179-1779235200-1779494399@88grund.schule
SUMMARY:Klasse 4 Klassenfahrt
DESCRIPTION:
URL:https://88grund.schule/termine/klasse-4-klassenfahrt/
CATEGORIES:Schulintern
END:VEVENT
BEGIN:VEVENT
DTSTART;TZID=Europe/Berlin:20260520T091500
DTEND;TZID=Europe/Berlin:20260520T101500
DTSTAMP:20260420T190147
CREATED:20251121T100218Z
LAST-MODIFIED:20251121T100218Z
UID:1362-1779268500-1779272100@88grund.schule
SUMMARY:Klasse 1b: Bibliothek
DESCRIPTION:
URL:https://88grund.schule/termine/klasse-1b-bibliothek/
CATEGORIES:Schulintern
END:VEVENT
BEGIN:VEVENT
DTSTART;VALUE=DATE:20260525
DTEND;VALUE=DATE:20260526
DTSTAMP:20260420T190147
CREATED:20250812T071707Z
LAST-MODIFIED:20250814T082018Z
UID:1181-1779667200-1779753599@88grund.schule
SUMMARY:Feiertag - Pfingstmontag
DESCRIPTION:
URL:https://88grund.schule/termine/pfingstmontag-2/
CATEGORIES:Ferien/Feiertag
END:VEVENT
BEGIN:VEVENT
DTSTART;VALUE=DATE:20260526
DTEND;VALUE=DATE:20260527
DTSTAMP:20260420T190147
CREATED:20250812T071847Z
LAST-MODIFIED:20250814T082022Z
UID:1186-1779753600-1779839999@88grund.schule
SUMMARY:freibeweglicher Ferientag
DESCRIPTION:
URL:https://88grund.schule/termine/freibeweglicher-ferientag-2/
CATEGORIES:Ferien/Feiertag
END:VEVENT
BEGIN:VEVENT
DTSTART;VALUE=DATE:20260528
DTEND;VALUE=DATE:20260529
DTSTAMP:20260420T190147
CREATED:20251020T063637Z
LAST-MODIFIED:20251020T063637Z
UID:1323-1779926400-1780012799@88grund.schule
SUMMARY:Klasse 1a: DVB-Projekt
DESCRIPTION:
URL:https://88grund.schule/termine/klasse-1a-dvb-projekt/
CATEGORIES:Schulintern
END:VEVENT
END:VCALENDAR