BEGIN:VCALENDAR
VERSION:2.0
PRODID:-//88. Grundschule - ECPv6.15.20//NONSGML v1.0//EN
CALSCALE:GREGORIAN
METHOD:PUBLISH
X-WR-CALNAME:88. Grundschule
X-ORIGINAL-URL:https://88grund.schule
X-WR-CALDESC:Veranstaltungen für 88. Grundschule
REFRESH-INTERVAL;VALUE=DURATION:PT1H
X-Robots-Tag:noindex
X-PUBLISHED-TTL:PT1H
BEGIN:VTIMEZONE
TZID:Europe/Berlin
BEGIN:DAYLIGHT
TZOFFSETFROM:+0100
TZOFFSETTO:+0200
TZNAME:CEST
DTSTART:20250330T010000
END:DAYLIGHT
BEGIN:STANDARD
TZOFFSETFROM:+0200
TZOFFSETTO:+0100
TZNAME:CET
DTSTART:20251026T010000
END:STANDARD
BEGIN:DAYLIGHT
TZOFFSETFROM:+0100
TZOFFSETTO:+0200
TZNAME:CEST
DTSTART:20260329T010000
END:DAYLIGHT
BEGIN:STANDARD
TZOFFSETFROM:+0200
TZOFFSETTO:+0100
TZNAME:CET
DTSTART:20261025T010000
END:STANDARD
BEGIN:DAYLIGHT
TZOFFSETFROM:+0100
TZOFFSETTO:+0200
TZNAME:CEST
DTSTART:20270328T010000
END:DAYLIGHT
BEGIN:STANDARD
TZOFFSETFROM:+0200
TZOFFSETTO:+0100
TZNAME:CET
DTSTART:20271031T010000
END:STANDARD
END:VTIMEZONE
BEGIN:VEVENT
DTSTART;VALUE=DATE:20260622
DTEND;VALUE=DATE:20260627
DTSTAMP:20260420T205728
CREATED:20250829T081913Z
LAST-MODIFIED:20250829T081913Z
UID:1280-1782086400-1782518399@88grund.schule
SUMMARY:Projektwoche Pillnitz
DESCRIPTION:
URL:https://88grund.schule/termine/projektwoche-pillnitz/
CATEGORIES:Schulintern
END:VEVENT
BEGIN:VEVENT
DTSTART;VALUE=DATE:20260625
DTEND;VALUE=DATE:20260626
DTSTAMP:20260420T205728
CREATED:20250829T081942Z
LAST-MODIFIED:20260306T080716Z
UID:1282-1782345600-1782431999@88grund.schule
SUMMARY:Sommerfest
DESCRIPTION:
URL:https://88grund.schule/termine/sommerfest/
CATEGORIES:Schulintern
END:VEVENT
BEGIN:VEVENT
DTSTART;VALUE=DATE:20260630
DTEND;VALUE=DATE:20260701
DTSTAMP:20260420T205728
CREATED:20250829T082007Z
LAST-MODIFIED:20250829T082007Z
UID:1284-1782777600-1782863999@88grund.schule
SUMMARY:Sportfest
DESCRIPTION:
URL:https://88grund.schule/termine/sportfest/
CATEGORIES:Schulintern
END:VEVENT
BEGIN:VEVENT
DTSTART;VALUE=DATE:20260703
DTEND;VALUE=DATE:20260704
DTSTAMP:20260420T205728
CREATED:20250812T072205Z
LAST-MODIFIED:20250814T082041Z
UID:1194-1783036800-1783123199@88grund.schule
SUMMARY:Ausgabe der Jahresendzeugnisse
DESCRIPTION:
URL:https://88grund.schule/termine/jahresendzeugnisse/
CATEGORIES:Vorschrift/Pflicht
END:VEVENT
BEGIN:VEVENT
DTSTART;VALUE=DATE:20260706
DTEND;VALUE=DATE:20260815
DTSTAMP:20260420T205728
CREATED:20250812T072229Z
LAST-MODIFIED:20250814T082047Z
UID:1196-1783296000-1786751999@88grund.schule
SUMMARY:Sommerferien
DESCRIPTION:
URL:https://88grund.schule/termine/sommerferien-2/
CATEGORIES:Ferien/Feiertag
END:VEVENT
BEGIN:VEVENT
DTSTART;VALUE=DATE:20260907
DTEND;VALUE=DATE:20260908
DTSTAMP:20260420T205728
CREATED:20260105T073344Z
LAST-MODIFIED:20260105T073344Z
UID:1385-1788739200-1788825599@88grund.schule
SUMMARY:Schließtag Hort
DESCRIPTION:
URL:https://88grund.schule/termine/schliesstag-hort-5/
END:VEVENT
BEGIN:VEVENT
DTSTART;TZID=Europe/Berlin:20260910T140000
DTEND;TZID=Europe/Berlin:20260910T180000
DTSTAMP:20260420T205728
CREATED:20260225T071745Z
LAST-MODIFIED:20260225T071745Z
UID:1392-1789048800-1789063200@88grund.schule
SUMMARY:Schulanmeldungen
DESCRIPTION:
URL:https://88grund.schule/termine/schulanmeldungen/
END:VEVENT
BEGIN:VEVENT
DTSTART;TZID=Europe/Berlin:20260915T140000
DTEND;TZID=Europe/Berlin:20260915T180000
DTSTAMP:20260420T205728
CREATED:20260225T071813Z
LAST-MODIFIED:20260225T071813Z
UID:1394-1789480800-1789495200@88grund.schule
SUMMARY:Schulanmeldungen
DESCRIPTION:
URL:https://88grund.schule/termine/schulanmeldungen-2/
END:VEVENT
BEGIN:VEVENT
DTSTART;VALUE=DATE:20261223
DTEND;VALUE=DATE:20261224
DTSTAMP:20260420T205728
CREATED:20260105T073411Z
LAST-MODIFIED:20260105T073411Z
UID:1387-1797984000-1798070399@88grund.schule
SUMMARY:Schließtag Hort
DESCRIPTION:
URL:https://88grund.schule/termine/schliesstag-hort-6/
END:VEVENT
END:VCALENDAR